BEGIN:VCALENDAR
BEGIN:VEVENT
DESCRIPTION:\nMore Information: https://tickets.unitedtheatre.org/websales/pages/TicketSearchCriteria.aspx?evtInfo=250207~ae6f70ea-4db0-4925-9e15-dd5a2c53fa7f&\n\nJoin us for an interactive holiday screening of the beloved holiday classic ELF complete with props, an indoor snowball fight, and treats from the four main food groups (candy, candy canes, candy corns and syrup). 
DTSTART:20221217T220000Z
DTEND:20221217T233700Z
LOCATION:Main Cinema, 5 Canal St, Westerly, RI, 02891
SUMMARY:The Elf Experience!
UID:250207
DTSTAMP:20260425T055734Z
END:VEVENT
END:VCALENDAR
