BEGIN:VCALENDAR
BEGIN:VEVENT
DESCRIPTION:\nMore Information: https://tickets.unitedtheatre.org/websales/pages/TicketSearchCriteria.aspx?evtInfo=251260~ae6f70ea-4db0-4925-9e15-dd5a2c53fa7f&\n\nCelebrity model couple, Carl and Yaya, are invited on a luxury cruise for the uber-rich, helmed by an unhinged boat captain. What first appeared instagrammable ends catastrophically, leaving the survivors stranded on a desert island and fighting for survival.\n\n3 Academy Award Nominations: Best Picture, Best Director, Best Original Screenplay
DTSTART:20221205T210000Z
DTEND:20221205T232700Z
LOCATION:Micro Cinema, 5 Canal St, Westerly, RI, 02891
SUMMARY:Triangle of Sadness
UID:251260
DTSTAMP:20260425T213110Z
END:VEVENT
END:VCALENDAR
