BEGIN:VCALENDAR
BEGIN:VEVENT
DESCRIPTION:\nMore Information: https://tickets.unitedtheatre.org/websales/pages/TicketSearchCriteria.aspx?evtInfo=353171~ae6f70ea-4db0-4925-9e15-dd5a2c53fa7f&\n\nWesterly-born Billy Gilman, two-time Grammy-nominated Country music artist, and recent runner-up on NBC’s The Voice is set to play his first ever headlining show at the UNITED on Valentine’s weekend. Opening up for Gilman will be another former Voice contestant from Rhode Island - folk and Americana singer/songwriter Kara McKee.\n
DTSTART:20240217T003000Z
DTEND:20240217T023000Z
LOCATION:Black Box, 5 Canal Street, Westerly, RI, 02891
SUMMARY:Billy Gilman
UID:353171
DTSTAMP:20260421T003743Z
END:VEVENT
END:VCALENDAR
