BEGIN:VCALENDAR
BEGIN:VEVENT
DESCRIPTION:\nMore Information: https://tickets.unitedtheatre.org/websales/pages/TicketSearchCriteria.aspx?evtInfo=604904~ae6f70ea-4db0-4925-9e15-dd5a2c53fa7f&\n\nScientists have discovered how to "hop" human consciousness into lifelike robotic animals, allowing people to communicate with animals as animals. Animal lover Mabel seizes an opportunity to use the technology, uncovering mysteries within the animal world that are beyond anything she could have imagined.
DTSTART:20260312T230000Z
DTEND:20260313T004500Z
LOCATION:Balcony Cinema, 5 Canal St, Westerly, RI, 02891
SUMMARY:Hoppers
UID:604904
DTSTAMP:20260420T045338Z
END:VEVENT
END:VCALENDAR
