BEGIN:VCALENDAR
BEGIN:VEVENT
DESCRIPTION:\nMore Information: https://tickets.unitedtheatre.org/websales/pages/TicketSearchCriteria.aspx?evtInfo=618937~ae6f70ea-4db0-4925-9e15-dd5a2c53fa7f&\n\nMario ventures into space, exploring cosmic worlds and tackling galactic challenges far from the familiar Mushroom Kingdom.
DTSTART:20260418T230000Z
DTEND:20260419T003500Z
LOCATION:Micro Cinema, 5 Canal St, Westerly, RI, 02891
SUMMARY:The Super Mario Galaxy Movie
UID:618937
DTSTAMP:20260420T045354Z
END:VEVENT
END:VCALENDAR
