BEGIN:VCALENDAR
BEGIN:VEVENT
DESCRIPTION:\nMore Information: https://tickets.unitedtheatre.org/websales/pages/TicketSearchCriteria.aspx?evtInfo=618969~ae6f70ea-4db0-4925-9e15-dd5a2c53fa7f&\n\nMario ventures into space, exploring cosmic worlds and tackling galactic challenges far from the familiar Mushroom Kingdom.
DTSTART:20260421T231500Z
DTEND:20260422T005000Z
LOCATION:Balcony Cinema, 5 Canal St, Westerly, RI, 02891
SUMMARY:The Super Mario Galaxy Movie
UID:618969
DTSTAMP:20260422T032218Z
END:VEVENT
END:VCALENDAR
