BEGIN:VCALENDAR
BEGIN:VEVENT
DESCRIPTION:\nMore Information: https://tickets.unitedtheatre.org/websales/pages/TicketSearchCriteria.aspx?evtInfo=618973~ae6f70ea-4db0-4925-9e15-dd5a2c53fa7f&\n\nWhen their plan to book a show at the Rivoli goes horribly wrong, Matt and Jay accidentally travel back to the year 2008.
DTSTART:20260421T200000Z
DTEND:20260421T214000Z
LOCATION:Micro Cinema, 5 Canal St, Westerly, RI, 02891
SUMMARY:Nirvanna the Band the Show the Movie
UID:618973
DTSTAMP:20260423T050257Z
END:VEVENT
END:VCALENDAR
