BEGIN:VCALENDAR
BEGIN:VEVENT
DESCRIPTION:\nMore Information: https://tickets.unitedtheatre.org/websales/pages/TicketSearchCriteria.aspx?evtInfo=619415~ae6f70ea-4db0-4925-9e15-dd5a2c53fa7f&\n\nJoin us for the April edition of Roots Music Stomp featuring a special celebration of the music of Bob Dylan. \n
DTSTART:20260520T220000Z
DTEND:20260521T000000Z
LOCATION:Gallery, 5 Canal St, Westerly, RI, 02891
SUMMARY:Roots Music Stomp - Bob Dylan 85th Birthday Bash
UID:619415
DTSTAMP:20260425T055331Z
END:VEVENT
END:VCALENDAR
