BEGIN:VCALENDAR
BEGIN:VEVENT
DESCRIPTION:\nMore Information: https://tickets.unitedtheatre.org/websales/pages/TicketSearchCriteria.aspx?evtInfo=621254~ae6f70ea-4db0-4925-9e15-dd5a2c53fa7f&\n\nDiscover the story of Michael Jackson, one of the most influential artists the world has ever known, and his life beyond the music, tracing his journey from the discovery of his extraordinary talent as the lead of the Jackson Five, to the visionary artist whose creative ambition fueled a relentless pursuit to become the biggest entertainer in the world, highlighting both his life off-stage and some of the most iconic performances from his early solo career.
DTSTART:20260425T191500Z
DTEND:20260425T212200Z
LOCATION:Main Cinema, 5 Canal St, Westerly, RI, 02891
SUMMARY:Michael
UID:621254
DTSTAMP:20260425T055421Z
END:VEVENT
END:VCALENDAR
