BEGIN:VCALENDAR
BEGIN:VEVENT
DESCRIPTION:\nMore Information: https://tickets.unitedtheatre.org/websales/pages/TicketSearchCriteria.aspx?evtInfo=621256~ae6f70ea-4db0-4925-9e15-dd5a2c53fa7f&\n\nIn 1955, 60-year-old Marcel Pagnol is a well-known and acclaimed playwright and filmmaker. When the editor-in-chief of ELLE magazine commissions a weekly column about Pagnol's childhood, he sees this as a great opportunity to go back to his artistic roots: writing. Realizing his memory is failing him and deeply affected by the disappointing results of his last two plays, Pagnol starts doubting his ability to pursue his work. That is until Little Marcel - the young boy he used to be - appears to him as if by magic. Together, they will explore Marcel Pagnol's incredible life and bring back to life his most cherished encounters and memories...
DTSTART:20260425T163000Z
DTEND:20260425T180100Z
LOCATION:Micro Cinema, 5 Canal St, Westerly, RI, 02891
SUMMARY:A Magnificent Life
UID:621256
DTSTAMP:20260425T055303Z
END:VEVENT
END:VCALENDAR
