BEGIN:VCALENDAR
BEGIN:VEVENT
DESCRIPTION:\nMore Information: https://tickets.unitedtheatre.org/websales/pages/TicketSearchCriteria.aspx?evtInfo=621392~ae6f70ea-4db0-4925-9e15-dd5a2c53fa7f&\n\nAn anxious New York law school dropout stumbles into a job babysitting his psychiatrist's three granddaughters and falls for the girls' mother, an actress in a rocky marriage.
DTSTART:20260504T193000Z
DTEND:20260504T210100Z
LOCATION:Micro Cinema, 5 Canal St, Westerly, RI, 02891
SUMMARY:Fantasy Life
UID:621392
DTSTAMP:20260423T223032Z
END:VEVENT
END:VCALENDAR
